BEGIN:VCALENDAR
VERSION:2.0
PRODID:-//eventon.com NONSGML v1.0//EN
CALSCALE:GREGORIAN
METHOD:PUBLISH
BEGIN:VEVENT
UID:69e73c6f00562
DTSTAMP:20260421T085927Z
DTSTART:20250504
DTEND:20250505
LOCATION:Wolfverhampton
SUMMARY:Pro Q British Grand Prix
DESCRIPTION:\nhttps://ironpinoy.com/events/pro-q-british-grand-prix/
URL:https://ironpinoy.com/events/pro-q-british-grand-prix/
END:VEVENT
END:VCALENDAR